BEGIN:VCALENDAR
PRODID:-//Cloudbeds//myallocator.com//EN
VERSION:2.0
CALSCALE:GREGORIAN
METHOD:PUBLISH
X-WR-CALNAME:air
X-WR-TIMEZONE:America/Panama
X-MA-PROPERTY-ID:29493
X-MA-ROOM-LABEL:Verde Mar
X-MA-ROOM-ID:147804
BEGIN:VEVENT
DTSTAMP:20260422T204025Z
UID:myalloc-29493-147804-20260422-20260423
DTSTART;VALUE=DATE:20260422
DTEND;VALUE=DATE:20260423
DESCRIPTION:
STATUS:CONFIRMED
SUMMARY:Blocked Date
END:VEVENT
BEGIN:VEVENT
DTSTAMP:20260422T204025Z
UID:myalloc-29493-147804-20260425-20260428
DTSTART;VALUE=DATE:20260425
DTEND;VALUE=DATE:20260428
DESCRIPTION:
STATUS:CONFIRMED
SUMMARY:Blocked Date
END:VEVENT
BEGIN:VEVENT
DTSTAMP:20260422T204025Z
UID:myalloc-29493-147804-20260502-20260503
DTSTART;VALUE=DATE:20260502
DTEND;VALUE=DATE:20260503
DESCRIPTION:
STATUS:CONFIRMED
SUMMARY:Blocked Date
END:VEVENT
BEGIN:VEVENT
DTSTAMP:20260422T204025Z
UID:myalloc-29493-147804-20260507-20260509
DTSTART;VALUE=DATE:20260507
DTEND;VALUE=DATE:20260509
DESCRIPTION:
STATUS:CONFIRMED
SUMMARY:Blocked Date
END:VEVENT
BEGIN:VEVENT
DTSTAMP:20260422T204025Z
UID:myalloc-29493-147804-20260531-20260602
DTSTART;VALUE=DATE:20260531
DTEND;VALUE=DATE:20260602
DESCRIPTION:
STATUS:CONFIRMED
SUMMARY:Blocked Date
END:VEVENT
BEGIN:VEVENT
DTSTAMP:20260422T204025Z
UID:myalloc-29493-147804-20260801-20260804
DTSTART;VALUE=DATE:20260801
DTEND;VALUE=DATE:20260804
DESCRIPTION:
STATUS:CONFIRMED
SUMMARY:Blocked Date
END:VEVENT
BEGIN:VEVENT
DTSTAMP:20260422T204025Z
UID:myalloc-29493-147804-20261019-20261022
DTSTART;VALUE=DATE:20261019
DTEND;VALUE=DATE:20261022
DESCRIPTION:
STATUS:CONFIRMED
SUMMARY:Blocked Date
END:VEVENT
BEGIN:VEVENT
DTSTAMP:20260422T204025Z
UID:myalloc-29493-147804-20270101-20280421
DTSTART;VALUE=DATE:20270101
DTEND;VALUE=DATE:20280421
DESCRIPTION:
STATUS:CONFIRMED
SUMMARY:Blocked Date
END:VEVENT
END:VCALENDAR
